BEGIN:VCALENDAR
VERSION:2.0
PRODID:-//WRIQ - ECPv6.15.19//NONSGML v1.0//EN
CALSCALE:GREGORIAN
METHOD:PUBLISH
X-ORIGINAL-URL:https://www.wriq.au
X-WR-CALDESC:Events for WRIQ
REFRESH-INTERVAL;VALUE=DURATION:PT1H
X-Robots-Tag:noindex
X-PUBLISHED-TTL:PT1H
BEGIN:VTIMEZONE
TZID:Australia/Melbourne
BEGIN:STANDARD
TZOFFSETFROM:+1100
TZOFFSETTO:+1000
TZNAME:AEST
DTSTART:20240406T160000
END:STANDARD
BEGIN:DAYLIGHT
TZOFFSETFROM:+1000
TZOFFSETTO:+1100
TZNAME:AEDT
DTSTART:20241005T160000
END:DAYLIGHT
BEGIN:STANDARD
TZOFFSETFROM:+1100
TZOFFSETTO:+1000
TZNAME:AEST
DTSTART:20250405T160000
END:STANDARD
BEGIN:DAYLIGHT
TZOFFSETFROM:+1000
TZOFFSETTO:+1100
TZNAME:AEDT
DTSTART:20251004T160000
END:DAYLIGHT
BEGIN:STANDARD
TZOFFSETFROM:+1100
TZOFFSETTO:+1000
TZNAME:AEST
DTSTART:20260404T160000
END:STANDARD
BEGIN:DAYLIGHT
TZOFFSETFROM:+1000
TZOFFSETTO:+1100
TZNAME:AEDT
DTSTART:20261003T160000
END:DAYLIGHT
END:VTIMEZONE
BEGIN:VEVENT
DTSTART;TZID=Australia/Melbourne:20250605T150000
DTEND;TZID=Australia/Melbourne:20250605T170000
DTSTAMP:20260421T154242
CREATED:20250521T031429Z
LAST-MODIFIED:20250521T073609Z
UID:1420-1749135600-1749142800@www.wriq.au
SUMMARY:Confidential Industry Briefing – Potential PFAS Class Action
DESCRIPTION:WRIQ members are invited to a confidential legal briefing regarding a potential class action related to PFAS. This closed-door session will provide important insights for organisations potentially affected.\nThis event is scheduled for Thursday 5 June\, 3:00- 5:00PM at the Corrs Chambers Westgarth Offices Brisbane\, 111 Eagle St. Brisbane City. \nFor any enquiries\, please email memberservices@wriq.com.au. \nPlease note: this is a confidential session and is not open to media or the public. \n			\n				\n				\n				\n				\n				REGISTRATIONFree to attend – Registration essential.Places are limited – one representative per company.CLICK HERE TO REGISTER NOW
URL:https://www.wriq.au/event/confidential-industry-briefing-potential-pfas-class-action/
LOCATION:Corrs Chambers Westgarth\, Level 42\, 111 Eagle Street\, Brisbane\, Brisbane\, QLD\, Australia
CATEGORIES:2025,WRIQ Events
ATTACH;FMTTYPE=image/jpeg:https://www.wriq.au/wp-content/uploads/2025/05/250605WRIQ_Header.jpg
ORGANIZER;CN="WRIQ":MAILTO:events@wriq.com.au
END:VEVENT
BEGIN:VEVENT
DTSTART;TZID=Australia/Melbourne:20250617T113000
DTEND;TZID=Australia/Melbourne:20250617T143000
DTSTAMP:20260421T154242
CREATED:20250501T033002Z
LAST-MODIFIED:20250502T064332Z
UID:1398-1750159800-1750170600@www.wriq.au
SUMMARY:Draft Queensland Waste Strategy Industry Consultation (June 2025)
DESCRIPTION:CLICK HERE TO DOWNLOAD THE PDF EVENT FLYER \nWRIQ invites waste and recycling industry stakeholders to join us at a lunch with The Hon. Andrew Powell MP\, Minister for the Environment and Tourism and senior representatives from the Department of the Environment\, Tourism\, Science and Innovation to discuss the draft Queensland Waste Strategy 2025 – 2030\, released on 1 May 2025.\nThe draft strategy sets the strategic framework for boosting the economy and reducing the impact of waste on the environment through better management of waste products and materials. The consultation also seeks feedback on the waste levy settings. To view the draft please visit: https://www.qld.gov.au/environment/circular-economy-waste-reduction/strategy-plans/draft-waste-strategy. \nThis is a great opportunity to reset waste and recycling in Queensland\, to create an environment that drives innovation and business investment\, and to rebuild trust with Queenslanders in our industry’s ability to deliver great outcomes for Queensland. Your input is critical to ensure that the Strategy is comprehensive\, effective\, and aligned with the needs of the industry. \n			\n				\n				\n				\n				\n				REGISTRATIONWRIQ Members: $210 inc GST • Non Members: $240 inc GSTTwo-course lunch and beverages will be providedBookings close 12noon\, Tuesday 10 June 2025CLICK HERE TO REGISTER NOW
URL:https://www.wriq.au/event/draft-queensland-waste-strategy-industry-consultation-june-2025/
LOCATION:Emporium Hotel South Bank\, 267 Grey Street\, South Brisbane\, QLD\, Australia
CATEGORIES:2025,WRIQ Events
ATTACH;FMTTYPE=image/jpeg:https://www.wriq.au/wp-content/uploads/2025/05/2506WRIQ_Header.jpg
ORGANIZER;CN="WRIQ":MAILTO:events@wriq.com.au
END:VEVENT
END:VCALENDAR