BEGIN:VCALENDAR
VERSION:2.0
PRODID:-//WRIQ - ECPv6.15.19//NONSGML v1.0//EN
CALSCALE:GREGORIAN
METHOD:PUBLISH
X-WR-CALNAME:WRIQ
X-ORIGINAL-URL:https://www.wriq.au
X-WR-CALDESC:Events for WRIQ
REFRESH-INTERVAL;VALUE=DURATION:PT1H
X-Robots-Tag:noindex
X-PUBLISHED-TTL:PT1H
BEGIN:VTIMEZONE
TZID:Australia/Melbourne
BEGIN:STANDARD
TZOFFSETFROM:+1100
TZOFFSETTO:+1000
TZNAME:AEST
DTSTART:20240406T160000
END:STANDARD
BEGIN:DAYLIGHT
TZOFFSETFROM:+1000
TZOFFSETTO:+1100
TZNAME:AEDT
DTSTART:20241005T160000
END:DAYLIGHT
BEGIN:STANDARD
TZOFFSETFROM:+1100
TZOFFSETTO:+1000
TZNAME:AEST
DTSTART:20250405T160000
END:STANDARD
BEGIN:DAYLIGHT
TZOFFSETFROM:+1000
TZOFFSETTO:+1100
TZNAME:AEDT
DTSTART:20251004T160000
END:DAYLIGHT
BEGIN:STANDARD
TZOFFSETFROM:+1100
TZOFFSETTO:+1000
TZNAME:AEST
DTSTART:20260404T160000
END:STANDARD
BEGIN:DAYLIGHT
TZOFFSETFROM:+1000
TZOFFSETTO:+1100
TZNAME:AEDT
DTSTART:20261003T160000
END:DAYLIGHT
END:VTIMEZONE
BEGIN:VEVENT
DTSTART;TZID=Australia/Melbourne:20251112T113000
DTEND;TZID=Australia/Melbourne:20251112T140000
DTSTAMP:20260421T043435
CREATED:20250725T043706Z
LAST-MODIFIED:20250919T055821Z
UID:1514-1762947000-1762956000@www.wriq.au
SUMMARY:WRIQ Member Luncheon: Temporary Emissions Licences for the Waste & Recycling Industry
DESCRIPTION:Join WRIQ for a panel discussion and sit-down lunch exploring the role and application of Temporary Emissions Licences (TELs) in Queensland.\nTELs are emergency environmental approvals granted by the Department of the Environment\, Tourism\, Science and Innovation (DETSI) to support industry operations during significant disruptions\, such as flooding\, fire or other natural disasters. These short-term licences allow businesses to temporarily release contaminants into the environment and operate outside of existing environmental conditions where it is necessary for safety or continuity\, and where the event itself was unforeseen. \nThis event will offer attendees practical insights into how TELs are applied in real-world settings\, the regulatory processes involved\, and the operational challenges faced by industry when responding to emergency situations. \nOur panel of government and industry representatives will reflect on recent experiences and explore lessons learned to inform better environmental and regulatory outcomes in future scenarios. The discussion will use recent TELs issued in the Swanbank region following Tropical Cyclone Alfred as a key case study. \nPanellists: \n\nBrad Wirth\, Dept of the Environment\, Tourism\, Science and Innovation\nScott Blanchard\, Dept of the Environment\, Tourism\, Science and Innovation\nMichael Correll\, Lantrak\nSarah Collins\, REMONDIS Australia\n\nFacilitated by: Alison Price\, WRIQ \n			\n				\n				\n				\n				\n				REGISTRATIONWRIQ Members: $150 inc GST • Non Members: $200 inc GSTTwo-course lunch and beverages will be providedBookings close 12noon\, Monday 3 November 2025CLICK HERE TO REGISTER NOW
URL:https://www.wriq.au/event/wriq-member-luncheon-temporary-emissions-licences-for-the-waste-recycling-industry/
LOCATION:Kedron Wavell Services Club\, 21 Kittyhawk Drive\, Chermside\, Qld\, 4032\, Australia
CATEGORIES:2025,WRIQ Events
ATTACH;FMTTYPE=image/jpeg:https://www.wriq.au/wp-content/uploads/2025/07/250930WRIQ_Header.jpg
ORGANIZER;CN="WRIQ":MAILTO:events@wriq.com.au
END:VEVENT
BEGIN:VEVENT
DTSTART;TZID=Australia/Melbourne:20251128T110000
DTEND;TZID=Australia/Melbourne:20251128T143000
DTSTAMP:20260421T043435
CREATED:20250116T032423Z
LAST-MODIFIED:20251119T035105Z
UID:1235-1764327600-1764340200@www.wriq.au
SUMMARY:WRIQ 2025 AGM and Christmas Lunch
DESCRIPTION:The AGM will begin at 11:30am\, followed by the Christmas Lunch from 12:00pm to 2:30pm.  \nThe Waste Recycling Industry Association of Queensland (WRIQ) is pleased to invite you to one of the most anticipated events on Queensland’s waste and recycling industry calendar – our 2025 Annual General Meeting (AGM) and Christmas Lunch. \nThis annual event provides a unique forum to reflect on our shared achievements\, discuss industry priorities for the year ahead\, and strengthen professional networks in a relaxed and celebratory setting. \nTickets to this popular event are limited and will sell out fast secure your spot early to avoid disappointment. Tables will be allocated on a first in\, best position basis so we recommend you book your tickets as early as possible. \n \n  \n\n\n\nREGISTRATION:\nWRIQ Members $175 inc GST\, Table of 10 $1\,700 inc GST\nNon Members $235 inc GST\, Table of 10 $2\,300 inc GST\nIncludes lunch and drinks. If you wish to attend the AGM only\, there is no charge. \nBookings close 4pm\, Wednesday 19 November 2025\nCLICK HERE TO REGISTER NOW
URL:https://www.wriq.au/event/wriq-2025-agm-and-christmas-lunch/
LOCATION:Emporium Hotel South Bank\, 267 Grey Street\, South Brisbane\, QLD\, Australia
CATEGORIES:2025,WRIQ Events
ATTACH;FMTTYPE=image/jpeg:https://www.wriq.au/wp-content/uploads/2025/01/251128xmas.jpg
ORGANIZER;CN="WRIQ":MAILTO:events@wriq.com.au
END:VEVENT
END:VCALENDAR