BEGIN:VCALENDAR
VERSION:2.0
PRODID:-//WRIQ - ECPv6.15.19//NONSGML v1.0//EN
CALSCALE:GREGORIAN
METHOD:PUBLISH
X-ORIGINAL-URL:https://www.wriq.au
X-WR-CALDESC:Events for WRIQ
REFRESH-INTERVAL;VALUE=DURATION:PT1H
X-Robots-Tag:noindex
X-PUBLISHED-TTL:PT1H
BEGIN:VTIMEZONE
TZID:Australia/Melbourne
BEGIN:STANDARD
TZOFFSETFROM:+1100
TZOFFSETTO:+1000
TZNAME:AEST
DTSTART:20240406T160000
END:STANDARD
BEGIN:DAYLIGHT
TZOFFSETFROM:+1000
TZOFFSETTO:+1100
TZNAME:AEDT
DTSTART:20241005T160000
END:DAYLIGHT
BEGIN:STANDARD
TZOFFSETFROM:+1100
TZOFFSETTO:+1000
TZNAME:AEST
DTSTART:20250405T160000
END:STANDARD
BEGIN:DAYLIGHT
TZOFFSETFROM:+1000
TZOFFSETTO:+1100
TZNAME:AEDT
DTSTART:20251004T160000
END:DAYLIGHT
BEGIN:STANDARD
TZOFFSETFROM:+1100
TZOFFSETTO:+1000
TZNAME:AEST
DTSTART:20260404T160000
END:STANDARD
BEGIN:DAYLIGHT
TZOFFSETFROM:+1000
TZOFFSETTO:+1100
TZNAME:AEDT
DTSTART:20261003T160000
END:DAYLIGHT
END:VTIMEZONE
BEGIN:VEVENT
DTSTART;TZID=Australia/Melbourne:20250320T073000
DTEND;TZID=Australia/Melbourne:20250320T093000
DTSTAMP:20260421T213527
CREATED:20241218T054053Z
LAST-MODIFIED:20250620T211104Z
UID:1196-1742455800-1742463000@www.wriq.au
SUMMARY:WRIQ Member Update (Mar 2025): Business Growth and Sustainable Finance
DESCRIPTION:CLICK HERE TO DOWNLOAD THE PDF EVENT FLYER INCLUDING PRESENTER DETAILS \nBusiness Growth and Sustainable Finance  \nDo you want to grow your recycling business? Take advantage of different finance options\, or even sell to an investor? Join our expert presenters to hear about cutting-edge strategies\, best practices and lessons learnt to empower your businesses to thrive in a rapidly evolving market.  \nKey presentations will include: \n\nOptions to finance recycling industry growth\nPreparing for mergers and acquisitions\nExperiences integrating new businesses\n\nDon’t miss this opportunity to gain valuable insights and practical advice on how to drive growth\, optimise financial performance\, and enhance sustainability within your organisation. \n\n\n\nREGISTRATION:WRIQ Members: $88 inc GST • Non Members $110 inc GSTIncludes light breakfastBookings close Friday 14 March 2025CLICK HERE TO REGISTER NOW
URL:https://www.wriq.au/event/wriq-member-update-mar-2025-business-growth-and-sustainable-finance/
LOCATION:Commonwealth Bank of Australia\, Level 22\, 180 Ann Street\, Brisbane\, Qld\, 4000\, Australia
CATEGORIES:2025,WRIQ Events
ATTACH;FMTTYPE=image/jpeg:https://www.wriq.au/wp-content/uploads/2024/12/250320WRIQ_Header.jpg
ORGANIZER;CN="WRIQ":MAILTO:events@wriq.com.au
END:VEVENT
END:VCALENDAR