BEGIN:VCALENDAR
VERSION:2.0
PRODID:-//WRIQ - ECPv6.15.19//NONSGML v1.0//EN
CALSCALE:GREGORIAN
METHOD:PUBLISH
X-WR-CALNAME:WRIQ
X-ORIGINAL-URL:https://www.wriq.au
X-WR-CALDESC:Events for WRIQ
REFRESH-INTERVAL;VALUE=DURATION:PT1H
X-Robots-Tag:noindex
X-PUBLISHED-TTL:PT1H
BEGIN:VTIMEZONE
TZID:Australia/Melbourne
BEGIN:STANDARD
TZOFFSETFROM:+1100
TZOFFSETTO:+1000
TZNAME:AEST
DTSTART:20240406T160000
END:STANDARD
BEGIN:DAYLIGHT
TZOFFSETFROM:+1000
TZOFFSETTO:+1100
TZNAME:AEDT
DTSTART:20241005T160000
END:DAYLIGHT
BEGIN:STANDARD
TZOFFSETFROM:+1100
TZOFFSETTO:+1000
TZNAME:AEST
DTSTART:20250405T160000
END:STANDARD
BEGIN:DAYLIGHT
TZOFFSETFROM:+1000
TZOFFSETTO:+1100
TZNAME:AEDT
DTSTART:20251004T160000
END:DAYLIGHT
BEGIN:STANDARD
TZOFFSETFROM:+1100
TZOFFSETTO:+1000
TZNAME:AEST
DTSTART:20260404T160000
END:STANDARD
BEGIN:DAYLIGHT
TZOFFSETFROM:+1000
TZOFFSETTO:+1100
TZNAME:AEDT
DTSTART:20261003T160000
END:DAYLIGHT
END:VTIMEZONE
BEGIN:VEVENT
DTSTART;TZID=Australia/Melbourne:20250521T120000
DTEND;TZID=Australia/Melbourne:20250521T140000
DTSTAMP:20260421T184953
CREATED:20240503T064250Z
LAST-MODIFIED:20250313T032838Z
UID:877-1747828800-1747836000@www.wriq.au
SUMMARY:WRIQ 500 Club Lunch
DESCRIPTION:Please join us for an exclusive luncheon for senior industry executives and retirees with over 20 years of industry experience. \nIndulge in a delectable three-course meal while engaging in open discussions with esteemed industry leaders. \nThis gathering aims to provide a platform for reflection on the latest industry trends and issues\, contributing to future strategies for WRIQ. \nJoin us for a stimulating afternoon of networking and knowledge sharing. \n  \n\n\n\nREGISTRATION:\nOpen to WRIQ Members Only • $155 inc GST per person\nIncludes 3-course lunch and drinks. LIMITED PLACES AVAILABLE.\nBookings close 4pm\, Wednesday 14 May 2025\nCLICK HERE TO REGISTER NOW
URL:https://www.wriq.au/event/wriq-500-club-lunch/
LOCATION:Port Office Hotel\, 40 Edward Street\, Brisbane\, QLD\, 4000\, Australia
CATEGORIES:2025,WRIQ Events
ATTACH;FMTTYPE=image/jpeg:https://www.wriq.au/wp-content/uploads/2024/05/241031WRIQ_Header.jpg
ORGANIZER;CN="WRIQ":MAILTO:events@wriq.com.au
END:VEVENT
END:VCALENDAR