BEGIN:VCALENDAR
VERSION:2.0
PRODID:-//WRIQ - ECPv6.15.19//NONSGML v1.0//EN
CALSCALE:GREGORIAN
METHOD:PUBLISH
X-ORIGINAL-URL:https://www.wriq.au
X-WR-CALDESC:Events for WRIQ
REFRESH-INTERVAL;VALUE=DURATION:PT1H
X-Robots-Tag:noindex
X-PUBLISHED-TTL:PT1H
BEGIN:VTIMEZONE
TZID:Australia/Melbourne
BEGIN:STANDARD
TZOFFSETFROM:+1100
TZOFFSETTO:+1000
TZNAME:AEST
DTSTART:20240406T160000
END:STANDARD
BEGIN:DAYLIGHT
TZOFFSETFROM:+1000
TZOFFSETTO:+1100
TZNAME:AEDT
DTSTART:20241005T160000
END:DAYLIGHT
BEGIN:STANDARD
TZOFFSETFROM:+1100
TZOFFSETTO:+1000
TZNAME:AEST
DTSTART:20250405T160000
END:STANDARD
BEGIN:DAYLIGHT
TZOFFSETFROM:+1000
TZOFFSETTO:+1100
TZNAME:AEDT
DTSTART:20251004T160000
END:DAYLIGHT
BEGIN:STANDARD
TZOFFSETFROM:+1100
TZOFFSETTO:+1000
TZNAME:AEST
DTSTART:20260404T160000
END:STANDARD
BEGIN:DAYLIGHT
TZOFFSETFROM:+1000
TZOFFSETTO:+1100
TZNAME:AEDT
DTSTART:20261003T160000
END:DAYLIGHT
END:VTIMEZONE
BEGIN:VEVENT
DTSTART;TZID=Australia/Melbourne:20250718T070000
DTEND;TZID=Australia/Melbourne:20250718T133000
DTSTAMP:20260421T154837
CREATED:20250221T004457Z
LAST-MODIFIED:20250716T051857Z
UID:1339-1752822000-1752845400@www.wriq.au
SUMMARY:WRIQ 2025 Golf Day
DESCRIPTION:Join in the excitement at WRIQ’s 2025 Golf Day!\nGather your team of four or nominate individually to compete in a day filled with fun\, competition\, and networking opportunities. \nThe Golf day is played in the Ambrose Competition Format (4 players per team) with a shotgun start. Pairs and individual players will be placed in a team on the day. No golfing skills necessary\, just bring your sense of fun! \nThank you to our 2025 Golf Day Sponsors \n \n  \nPROGRAM*7:00am Player registration and breakfast (Bacon & Egg Rolls)7:50am Player briefing8:00am Shot gun start12:30pm BBQ Lunch and presentations \nTickets include course fees\, buggy hire\, breakfast\, lunch and 3 x drinks vouchers per player. \n  \nThe WRIQ Golf day is played in the Ambrose Competition Format (4 players per team)The competition is limited to 100 players (25 teams of 4 players). The day provides an excellent opportunity to get together a team with clients\, suppliers and colleagues. If you need assistance with forming a team\, please contact Melissa at memberservices@wriq.com.au. \n19th HOLEThere will be an opportunity for players to meet as a group for a BBQ lunch in the clubhouse (19th hole) after the game. Prizes will be presented in the clubhouse at approximately 1pm \nDRESS CODE For information about the course dress regulations please visit https://www.virginiagolf.com.au/cms/dress-on-course-in-clubhouse/dress-on-the-course/ and https://www.virginiagolf.com.au/cms/dress-on-course-in-clubhouse/dress-in-the-clubhouse/ \nSPONSORSHIP OPPORTUNITIESDon’t miss the chance to elevate your brand at the WRIQ 2025 Golf Day. Join us for a day of networking\, golf\, and industry excellence! Click here to download the Sponsorship Prospectus. \nWHAT IS AMBROSE GOLF? The Ambrose event is played in a team of four\, where for each hole: \n\nEach player in the team tees off\nThe team chooses the team’s best ball\nAll players hit their next shot from the location of the best ball\nRepeat steps 2 and 3 until the hole is completed\nThe hole score is the number of strokes of the “best ball”\n\nIn essence\, it allows players of a wide range of abilities to enjoy a competition as the team only needs to count the best shot each time. \nLocal rules on the day \n\nVirginia Golf Club will brief players with Rules and format at 7.50am.\n\nEQUIPMENT HIREIf required\, equipment can be hired or bought from the Golf Shop at Virginia Golf Club. To make enquiries or bookings please call the Golf Shop on 07 3267 6333 – Option 1. Hire Clubs are $27.00per set (balls and tees not included) \n  \n*Every effort has been made to present all the information contained on this webpage as accurately as possible. WRIQ reserve the right to change\, without notice\, any or all of these details \n			\n				\n				\n				\n				\n				BOOKINGS\nIndividual Tickets: $175 inc GST • Teams of Four: $700 inc GSTTickets include course fees\, buggy hire\, breakfast\, lunch and 3 x drinks vouchers per player.Bookings close 12noon\, Thursday 10 July 2025CLICK HERE TO BOOK NOW
URL:https://www.wriq.au/event/wriq-2025-golf-day/
LOCATION:Virginia Golf Club\, 2 Elliott Road\, Banyo\, Qld\, 4014\, Australia
CATEGORIES:2025,WRIQ Events
ATTACH;FMTTYPE=image/jpeg:https://www.wriq.au/wp-content/uploads/2025/02/250718WRIQ_Header.jpg
ORGANIZER;CN="WRIQ":MAILTO:events@wriq.com.au
END:VEVENT
END:VCALENDAR