BEGIN:VCALENDAR
VERSION:2.0
PRODID:-//WRIQ - ECPv6.15.19//NONSGML v1.0//EN
CALSCALE:GREGORIAN
METHOD:PUBLISH
X-ORIGINAL-URL:https://www.wriq.au
X-WR-CALDESC:Events for WRIQ
REFRESH-INTERVAL;VALUE=DURATION:PT1H
X-Robots-Tag:noindex
X-PUBLISHED-TTL:PT1H
BEGIN:VTIMEZONE
TZID:Australia/Melbourne
BEGIN:STANDARD
TZOFFSETFROM:+1100
TZOFFSETTO:+1000
TZNAME:AEST
DTSTART:20250405T160000
END:STANDARD
BEGIN:DAYLIGHT
TZOFFSETFROM:+1000
TZOFFSETTO:+1100
TZNAME:AEDT
DTSTART:20251004T160000
END:DAYLIGHT
BEGIN:STANDARD
TZOFFSETFROM:+1100
TZOFFSETTO:+1000
TZNAME:AEST
DTSTART:20260404T160000
END:STANDARD
BEGIN:DAYLIGHT
TZOFFSETFROM:+1000
TZOFFSETTO:+1100
TZNAME:AEDT
DTSTART:20261003T160000
END:DAYLIGHT
BEGIN:STANDARD
TZOFFSETFROM:+1100
TZOFFSETTO:+1000
TZNAME:AEST
DTSTART:20270403T160000
END:STANDARD
BEGIN:DAYLIGHT
TZOFFSETFROM:+1000
TZOFFSETTO:+1100
TZNAME:AEDT
DTSTART:20271002T160000
END:DAYLIGHT
END:VTIMEZONE
BEGIN:VEVENT
DTSTART;TZID=Australia/Melbourne:20260904T190000
DTEND;TZID=Australia/Melbourne:20260904T223000
DTSTAMP:20260421T123928
CREATED:20251118T005413Z
LAST-MODIFIED:20260106T053924Z
UID:1843-1788548400-1788561000@www.wriq.au
SUMMARY:WRIQ 2026 Industry Awards Dinner
DESCRIPTION:Join us for a spectacular evening of celebration and recognition at the WRIQ Industry Awards Gala Dinner!\nThe WRIQ Industry Awards Gala Dinner is a prestigious occasion where we come together to acknowledge and honour outstanding individuals and companies who have displayed excellence throughout the year. \nThe 2026 awards will be presented at a Gala Dinner on Friday 4 September 2026. This special evening will feature industry recognition\, entertainment\, and networking opportunities for all attendees. \nJoin us for an unforgettable evening of recognition and inspiration as we highlight and celebrate the achievements of those who have contributed to the success of Queensland’s waste and resource recovery industry. \n			\n				\n				\n				\n				\n				ADDITIONAL INFORMATION COMING SOON\n			\n			\n				\n				\n				\n				\n			\n				\n				\n			\n				\n				\n				\n				\n				\n				\n				\n				\n				\n				\n				\n				\n				\n				\n				\n				\n				\n				Thank you to our Gala Dinner and Awards Sponsors
URL:https://www.wriq.au/event/wriq-2026-industry-awards-dinner/
LOCATION:voco Brisbane City Centre\, 85-87 North Quay\, Brisbane\, Qld\, 4000\, Australia
CATEGORIES:2026,WRIQ Events
ATTACH;FMTTYPE=image/jpeg:https://www.wriq.au/wp-content/uploads/2025/11/260904_header.jpg
ORGANIZER;CN="WRIQ":MAILTO:events@wriq.com.au
END:VEVENT
BEGIN:VEVENT
DTSTART;TZID=Australia/Melbourne:20261127T113000
DTEND;TZID=Australia/Melbourne:20261128T143000
DTSTAMP:20260421T123928
CREATED:20251125T051247Z
LAST-MODIFIED:20260323T212731Z
UID:1865-1795779000-1795876200@www.wriq.au
SUMMARY:WRIQ 2026 AGM and Christmas Lunch
DESCRIPTION:The AGM will begin at 11:30am\, followed by the Christmas Lunch from 12:00pm to 2:30pm.  \nThe Waste Recycling Industry Association of Queensland (WRIQ) is pleased to invite you to one of the most anticipated events on Queensland’s waste and recycling industry calendar – our 2025 Annual General Meeting (AGM) and Christmas Lunch. \nThis annual event provides a unique forum to reflect on our shared achievements\, discuss industry priorities for the year ahead\, and strengthen professional networks in a relaxed and celebratory setting. \nTickets to this popular event are limited and will sell out fast secure your spot early to avoid disappointment. Tables will be allocated on a first in\, best position basis so we recommend you book your tickets as early as possible. \n \n  \n\n\n\nREGISTRATION:WRIQ Members $180 inc GST\, Table of 10 $1\,750 inc GSTNon Members $240 inc GST\, Table of 10 $2\,350 inc GSTIncludes lunch and drinks. If you wish to attend the AGM only\, there is no charge. Bookings close 4pm\, Wednesday 18 November 2025CLICK HERE TO REGISTER NOW
URL:https://www.wriq.au/event/wriq-2026-agm-and-christmas-lunch/
LOCATION:Emporium Hotel South Bank\, 267 Grey Street\, South Brisbane\, QLD\, Australia
CATEGORIES:2026,WRIQ Events
ATTACH;FMTTYPE=image/jpeg:https://www.wriq.au/wp-content/uploads/2025/11/261127_xmas.jpg
ORGANIZER;CN="WRIQ":MAILTO:events@wriq.com.au
END:VEVENT
END:VCALENDAR