BEGIN:VCALENDAR
VERSION:2.0
PRODID:-//WRIQ - ECPv6.15.19//NONSGML v1.0//EN
CALSCALE:GREGORIAN
METHOD:PUBLISH
X-WR-CALNAME:WRIQ
X-ORIGINAL-URL:https://www.wriq.au
X-WR-CALDESC:Events for WRIQ
REFRESH-INTERVAL;VALUE=DURATION:PT1H
X-Robots-Tag:noindex
X-PUBLISHED-TTL:PT1H
BEGIN:VTIMEZONE
TZID:Australia/Melbourne
BEGIN:STANDARD
TZOFFSETFROM:+1100
TZOFFSETTO:+1000
TZNAME:AEST
DTSTART:20220402T160000
END:STANDARD
BEGIN:DAYLIGHT
TZOFFSETFROM:+1000
TZOFFSETTO:+1100
TZNAME:AEDT
DTSTART:20221001T160000
END:DAYLIGHT
BEGIN:STANDARD
TZOFFSETFROM:+1100
TZOFFSETTO:+1000
TZNAME:AEST
DTSTART:20230401T160000
END:STANDARD
BEGIN:DAYLIGHT
TZOFFSETFROM:+1000
TZOFFSETTO:+1100
TZNAME:AEDT
DTSTART:20230930T160000
END:DAYLIGHT
BEGIN:STANDARD
TZOFFSETFROM:+1100
TZOFFSETTO:+1000
TZNAME:AEST
DTSTART:20240406T160000
END:STANDARD
BEGIN:DAYLIGHT
TZOFFSETFROM:+1000
TZOFFSETTO:+1100
TZNAME:AEDT
DTSTART:20241005T160000
END:DAYLIGHT
END:VTIMEZONE
BEGIN:VEVENT
DTSTART;TZID=Australia/Melbourne:20231027T110000
DTEND;TZID=Australia/Melbourne:20231027T133000
DTSTAMP:20260426T085406
CREATED:20230930T020342Z
LAST-MODIFIED:20231214T010918Z
UID:513-1698404400-1698413400@www.wriq.au
SUMMARY:WRIQ Industry Leaders Lunch (Oct 2023): Updates on the Economy\, Grants\, Tax Offsets & Key Industry Issues
DESCRIPTION:CLICK HERE TO DOWNLOAD THE PDF EVENT FLYER \nThe October WRIQ Industry Leaders Lunch will cover the following important industry topics: \n\nAdelaide Timbrell from ANZ will provide an economic update focusing on the structural changes faced by the Australian economy in recent times and the impacts of high inflation\, low unemployment and higher interest rates on economic activity.\nHLB Mann Judd will provide an update on government grants on offer from the Federal and State Governments\, recent changes in tax incentives and an overview of the R&D tax offsets\, and the latest issues to watch out for when managing your claims.\nRick Ralph\, CEO of the National Waste and Recycling Industry Council will provide insights into the formation of the National organisation and its important role in terms of industry advocacy in Canberra. He will also outline the Councils achievements and key challenges and issues for the sector that remain a core priority as Rick interacts with elected Senators\, Members of the House of Representatives and government standing committees across all political pathways.\n\n  \nThank you to our event host:\n \n\n\n\nREGISTRATION:\nWRIQ Members: $88 inc GST • Non Members $110 inc GST\nNumbers are limited – only one representative per company will be accepted.\nIncludes light lunch\nBookings close 12noon\, Friday 20 October 2023\nCLICK HERE TO REGISTER NOW
URL:https://www.wriq.au/event/wriq-industry-leaders-lunch-oct-2023-updates-on-the-economy-grants-tax-offsets-key-industry-issues/
LOCATION:ANZ\, Level 20\, 111 Eagle Street\, Brisbane\, QLD\, 4000\, Australia
CATEGORIES:2023,WRIQ Events
ATTACH;FMTTYPE=image/jpeg:https://www.wriq.au/wp-content/uploads/2023/09/231027WRIQ_Header.jpg
ORGANIZER;CN="WRIQ":MAILTO:events@wriq.com.au
END:VEVENT
BEGIN:VEVENT
DTSTART;TZID=Australia/Melbourne:20230818T140000
DTEND;TZID=Australia/Melbourne:20230818T153000
DTSTAMP:20260426T085406
CREATED:20230808T064500Z
LAST-MODIFIED:20231214T010920Z
UID:456-1692367200-1692372600@www.wriq.au
SUMMARY:WRIQ Regional Waste Recycling Industry Catch Ups - Cairns
DESCRIPTION:WRIQ’s new CEO\, Alison Price\, is hitting the road in August to visit regional members\, discuss ideas for the industry and catch up with other stakeholders. \nScheduled catchups include: \n\nMonday 31 July: Bundaberg (12pm to 1.30pm)\nTuesday 1 August: Gladstone (12pm to 1.30pm)\nWednesday 2 August: Rockhampton (12pm to 1.30pm)\nThursday 3 August: Mackay (12pm to 1.30pm)\nMonday 14 August: Townsville (1pm to 2.30pm)\nFriday 18 August: Cairns (2pm to 3.30pm)\n\n\n\n\nREGISTRATION:\nWRIQ Members: Free of charge • Non Members $33 inc GST\nIncludes refreshments\nBookings close 12noon\, Thursday 17 August 2023\nCLICK HERE TO REGISTER NOW
URL:https://www.wriq.au/event/wriq-regional-waste-recycling-industry-catch-ups-cairns/
LOCATION:Edge Hill Tavern\, 145 Pease St\, Manunda\, QLD\, Australia
CATEGORIES:2023,WRIQ Events
ATTACH;FMTTYPE=image/jpeg:https://www.wriq.au/wp-content/uploads/2023/08/2307WRIQ_Header.jpg
ORGANIZER;CN="WRIQ":MAILTO:events@wriq.com.au
END:VEVENT
BEGIN:VEVENT
DTSTART;TZID=Australia/Melbourne:20230818T080000
DTEND;TZID=Australia/Melbourne:20230818T100000
DTSTAMP:20260426T085406
CREATED:20230808T065512Z
LAST-MODIFIED:20231214T010921Z
UID:474-1692345600-1692352800@www.wriq.au
SUMMARY:WRIQ Business Breakfast (August 2023) - Operational compliance and safeguards
DESCRIPTION:CLICK HERE TO DOWNLOAD THE PDF EVENT FLYER \nPlease join us for a breakfast panel discussion on environmental operational compliance and safeguards. \nThe panel will explore the following issues: \n\nWhat to do if the regulator takes enforcement action?\nHow to interpret environmental authority conditions?\nWho is the regulator (DES or Council) for which activities?\nWhat enforcement ‘tools’ are available to the regulator\, and what are the rights of operators?\nHow to protect against an environmental investigation?\n\nWe hope you can join us. \nPresented and sponsored by:\n \n\n\n\nREGISTRATION:\nWRIQ Members: $82.50 inc GST • Non Members $99 inc GST\nIncludes light breakfast\nBookings close 12noon\, Tuesday 15 August 2023\nCLICK HERE TO REGISTER NOW
URL:https://www.wriq.au/event/wriq-business-breakfast-august-2023-operational-compliance-and-safeguards/
LOCATION:Corrs Chambers Westgarth\, Level 42\, 111 Eagle Street\, Brisbane\, Brisbane\, QLD\, Australia
CATEGORIES:2023,WRIQ Events
ATTACH;FMTTYPE=image/jpeg:https://www.wriq.au/wp-content/uploads/2023/08/231818WRIQ_Header.jpg
ORGANIZER;CN="WRIQ":MAILTO:events@wriq.com.au
END:VEVENT
BEGIN:VEVENT
DTSTART;TZID=Australia/Melbourne:20230814T130000
DTEND;TZID=Australia/Melbourne:20230814T143000
DTSTAMP:20260426T085406
CREATED:20230808T063542Z
LAST-MODIFIED:20231214T010922Z
UID:448-1692018000-1692023400@www.wriq.au
SUMMARY:WRIQ Regional Waste Recycling Industry Catch Ups - Townsville
DESCRIPTION:WRIQ’s new CEO\, Alison Price\, is hitting the road in August to visit regional members\, discuss ideas for the industry and catch up with other stakeholders. \nScheduled catchups include: \n\nMonday 31 July: Bundaberg (12pm to 1.30pm)\nTuesday 1 August: Gladstone (12pm to 1.30pm)\nWednesday 2 August: Rockhampton (12pm to 1.30pm)\nThursday 3 August: Mackay (12pm to 1.30pm)\nMonday 14 August: Townsville (1pm to 2.30pm)\nFriday 18 August: Cairns (2pm to 3.30pm)\n\n\n\n\nREGISTRATION:\nWRIQ Members: Free of charge • Non Members $33 inc GST\nIncludes refreshments\nBookings close 12noon\, Friday 11 August 2023\nCLICK HERE TO REGISTER NOW
URL:https://www.wriq.au/event/wriq-regional-waste-recycling-industry-catch-ups-townsville/
LOCATION:Seaview Hotel\, 55 The Strand\, Townsville\, QLD\, Australia
CATEGORIES:2023,WRIQ Events
ATTACH;FMTTYPE=image/jpeg:https://www.wriq.au/wp-content/uploads/2023/08/2307WRIQ_Header.jpg
ORGANIZER;CN="WRIQ":MAILTO:events@wriq.com.au
END:VEVENT
BEGIN:VEVENT
DTSTART;TZID=Australia/Melbourne:20230803T120000
DTEND;TZID=Australia/Melbourne:20230803T133000
DTSTAMP:20260426T085406
CREATED:20230808T071501Z
LAST-MODIFIED:20231214T010924Z
UID:494-1691064000-1691069400@www.wriq.au
SUMMARY:WRIQ Regional Waste Recycling Industry Catch Ups - Mackay
DESCRIPTION:WRIQ’s new CEO\, Alison Price\, is hitting the road in August to visit regional members\, discuss ideas for the industry and catch up with other stakeholders. \nScheduled catchups include: \n\nMonday 31 July: Bundaberg (12pm to 1.30pm)\nTuesday 1 August: Gladstone (12pm to 1.30pm)\nWednesday 2 August: Rockhampton (12pm to 1.30pm)\nThursday 3 August: Mackay (12pm to 1.30pm)\nMonday 14 August: Townsville (1pm to 2.30pm)\nFriday 18 August: Cairns (2pm to 3.30pm)\n\n\n\n\nREGISTRATION:\nWRIQ Members: Free of charge • Non Members $33 inc GST\nIncludes refreshments\nBookings close 12noon\, Wednesday 2 August 2023\nCLICK HERE TO REGISTER NOW
URL:https://www.wriq.au/event/wriq-regional-waste-recycling-industry-catch-ups-mackay/
LOCATION:Souths Leagues Club\, 181 Milton Street\, Mackay\, QLD\, Australia
CATEGORIES:2023,WRIQ Events
ATTACH;FMTTYPE=image/jpeg:https://www.wriq.au/wp-content/uploads/2023/08/2307WRIQ_Header.jpg
ORGANIZER;CN="WRIQ":MAILTO:events@wriq.com.au
END:VEVENT
BEGIN:VEVENT
DTSTART;TZID=Australia/Melbourne:20230802T120000
DTEND;TZID=Australia/Melbourne:20230802T133000
DTSTAMP:20260426T085406
CREATED:20230808T071334Z
LAST-MODIFIED:20231214T010925Z
UID:492-1690977600-1690983000@www.wriq.au
SUMMARY:WRIQ Regional Waste Recycling Industry Catch Ups - Gladstone
DESCRIPTION:WRIQ’s new CEO\, Alison Price\, is hitting the road in August to visit regional members\, discuss ideas for the industry and catch up with other stakeholders. \nScheduled catchups include: \n\nMonday 31 July: Bundaberg (12pm to 1.30pm)\nTuesday 1 August: Gladstone (12pm to 1.30pm)\nWednesday 2 August: Rockhampton (12pm to 1.30pm)\nThursday 3 August: Mackay (12pm to 1.30pm)\nMonday 14 August: Townsville (1pm to 2.30pm)\nFriday 18 August: Cairns (2pm to 3.30pm)\n\n\n\n\nREGISTRATION:\nWRIQ Members: Free of charge • Non Members $33 inc GST\nIncludes refreshments\nBookings close 12noon\, Tuesday 1 August 2023\nCLICK HERE TO REGISTER NOW
URL:https://www.wriq.au/event/wriq-regional-waste-recycling-industry-catch-ups-gladstone-2/
LOCATION:Rockhampton Leagues Club\, 75-103 Murray Street\, Rockhampton\, QLD\, Australia
CATEGORIES:2023,WRIQ Events
ATTACH;FMTTYPE=image/jpeg:https://www.wriq.au/wp-content/uploads/2023/08/2307WRIQ_Header.jpg
ORGANIZER;CN="WRIQ":MAILTO:events@wriq.com.au
END:VEVENT
BEGIN:VEVENT
DTSTART;TZID=Australia/Melbourne:20230801T120000
DTEND;TZID=Australia/Melbourne:20230801T133000
DTSTAMP:20260426T085406
CREATED:20230808T071151Z
LAST-MODIFIED:20231214T010949Z
UID:490-1690891200-1690896600@www.wriq.au
SUMMARY:WRIQ Regional Waste Recycling Industry Catch Ups - Gladstone
DESCRIPTION:WRIQ’s new CEO\, Alison Price\, is hitting the road in August to visit regional members\, discuss ideas for the industry and catch up with other stakeholders. \nScheduled catchups include: \n\nMonday 31 July: Bundaberg (12pm to 1.30pm)\nTuesday 1 August: Gladstone (12pm to 1.30pm)\nWednesday 2 August: Rockhampton (12pm to 1.30pm)\nThursday 3 August: Mackay (12pm to 1.30pm)\nMonday 14 August: Townsville (1pm to 2.30pm)\nFriday 18 August: Cairns (2pm to 3.30pm)\n\n\n\n\nREGISTRATION:\nWRIQ Members: Free of charge • Non Members $33 inc GST\nIncludes refreshments\nBookings close 12noon\, Monday 31 July 2023\nCLICK HERE TO REGISTER NOW
URL:https://www.wriq.au/event/wriq-regional-waste-recycling-industry-catch-ups-gladstone/
LOCATION:The Reef Hotel\, 38 Goondoon St\, Gladstone\, QLD\, Australia
CATEGORIES:2023,WRIQ Events
ATTACH;FMTTYPE=image/jpeg:https://www.wriq.au/wp-content/uploads/2023/08/2307WRIQ_Header.jpg
ORGANIZER;CN="WRIQ":MAILTO:events@wriq.com.au
END:VEVENT
BEGIN:VEVENT
DTSTART;TZID=Australia/Melbourne:20230731T120000
DTEND;TZID=Australia/Melbourne:20230731T133000
DTSTAMP:20260426T085406
CREATED:20230808T070815Z
LAST-MODIFIED:20231214T010950Z
UID:480-1690804800-1690810200@www.wriq.au
SUMMARY:WRIQ Regional Waste Recycling Industry Catch Ups - Bundaberg
DESCRIPTION:WRIQ’s new CEO\, Alison Price\, is hitting the road in August to visit regional members\, discuss ideas for the industry and catch up with other stakeholders. \nScheduled catchups include: \n\nMonday 31 July: Bundaberg (12pm to 1.30pm)\nTuesday 1 August: Gladstone (12pm to 1.30pm)\nWednesday 2 August: Rockhampton (12pm to 1.30pm)\nThursday 3 August: Mackay (12pm to 1.30pm)\nMonday 14 August: Townsville (1pm to 2.30pm)\nFriday 18 August: Cairns (2pm to 3.30pm)\n\n\n\n\nREGISTRATION:\nWRIQ Members: Free of charge • Non Members $33 inc GST\nIncludes refreshments\nBookings close 12noon\, Friday 28 July 2023\nCLICK HERE TO REGISTER NOW
URL:https://www.wriq.au/event/wriq-regional-waste-recycling-industry-catch-ups-bundaberg/
LOCATION:Spotted Dog at Railway Hotel\, 87 Perry St\, Bundaberg North\, QLD\, Australia
CATEGORIES:2023,WRIQ Events
ATTACH;FMTTYPE=image/jpeg:https://www.wriq.au/wp-content/uploads/2023/08/2307WRIQ_Header.jpg
ORGANIZER;CN="WRIQ":MAILTO:events@wriq.com.au
END:VEVENT
END:VCALENDAR