BEGIN:VCALENDAR
VERSION:2.0
PRODID:-//WRIQ - ECPv6.15.19//NONSGML v1.0//EN
CALSCALE:GREGORIAN
METHOD:PUBLISH
X-ORIGINAL-URL:https://www.wriq.au
X-WR-CALDESC:Events for WRIQ
REFRESH-INTERVAL;VALUE=DURATION:PT1H
X-Robots-Tag:noindex
X-PUBLISHED-TTL:PT1H
BEGIN:VTIMEZONE
TZID:Australia/Melbourne
BEGIN:STANDARD
TZOFFSETFROM:+1100
TZOFFSETTO:+1000
TZNAME:AEST
DTSTART:20230401T160000
END:STANDARD
BEGIN:DAYLIGHT
TZOFFSETFROM:+1000
TZOFFSETTO:+1100
TZNAME:AEDT
DTSTART:20230930T160000
END:DAYLIGHT
BEGIN:STANDARD
TZOFFSETFROM:+1100
TZOFFSETTO:+1000
TZNAME:AEST
DTSTART:20240406T160000
END:STANDARD
BEGIN:DAYLIGHT
TZOFFSETFROM:+1000
TZOFFSETTO:+1100
TZNAME:AEDT
DTSTART:20241005T160000
END:DAYLIGHT
BEGIN:STANDARD
TZOFFSETFROM:+1100
TZOFFSETTO:+1000
TZNAME:AEST
DTSTART:20250405T160000
END:STANDARD
BEGIN:DAYLIGHT
TZOFFSETFROM:+1000
TZOFFSETTO:+1100
TZNAME:AEDT
DTSTART:20251004T160000
END:DAYLIGHT
END:VTIMEZONE
BEGIN:VEVENT
DTSTART;TZID=Australia/Melbourne:20241129T110000
DTEND;TZID=Australia/Melbourne:20241129T143000
DTSTAMP:20260424T122444
CREATED:20231214T010556Z
LAST-MODIFIED:20241017T054322Z
UID:652-1732878000-1732890600@www.wriq.au
SUMMARY:WRIQ 2024 AGM and Christmas Lunch
DESCRIPTION:The Waste Recycling Industry Association Queensland (WRIQ) is delighted to announce that the 2024 AGM and Christmas lunch will be held on Friday 29 November 2024 at the Emporium Hotel South Bank. \nTickets to this popular event will sell out quickly\, so reserve your tickets now to avoid disappointment. Tables will be allocated on a first in\, best position basis so we recommend you book your tickets as early as possible. \n \n\n \n\n\nREGISTRATION:\nWRIQ Members $160 inc GST\, Table of 8 $1\,230 inc GST\nNon Members $200 inc GST\, Table of 8 $1\,550 inc GST\nIncludes lunch and drinks. If you wish to attend the AGM only\, there is no charge. \nBookings close 4pm\, Thursday 21 November 2024\nCLICK HERE TO REGISTER NOW
URL:https://www.wriq.au/event/wriq-2024-agm-and-christmas-lunch/
LOCATION:Emporium Hotel South Bank\, 267 Grey Street\, South Brisbane\, QLD\, Australia
CATEGORIES:2024,WRIQ Events
ATTACH;FMTTYPE=image/jpeg:https://www.wriq.au/wp-content/uploads/2023/12/241129xmas.jpg
ORGANIZER;CN="WRIQ":MAILTO:events@wriq.com.au
END:VEVENT
END:VCALENDAR